BEGIN:VCALENDAR
VERSION:2.0
PRODID:-//wp-events-plugin.com//6.6.3//EN
TZID:Europe/Rome
X-WR-TIMEZONE:Europe/Rome
BEGIN:VEVENT
UID:66@teatroasioli.it
DTSTART;TZID=Europe/Rome:20260303T203000
DTEND;TZID=Europe/Rome:20260303T203000
DTSTAMP:20260303T165358Z
URL:https://www.teatroasioli.it/eventi/play-dead/
SUMMARY:PLAY DEAD
DESCRIPTION:di e con Brin Schoellkopf\, Natasha Patterson\, Jarrod Takle\, 
 Jérémi Lévesque\, Ruben Ingwersen e Sabine Van Rensburg – produzione 
 People Watching con il contributo di Conseil des arts et des letrres du Qu
 ebec
ATTACH;FMTTYPE=image/jpeg:https://www.teatroasioli.it/wp-content/uploads/2
 025/09/PLAYDEAD_02_AlexRoyer-cover.jpg
CATEGORIES:Stagione 25/26
END:VEVENT
BEGIN:VTIMEZONE
TZID:Europe/Rome
X-LIC-LOCATION:Europe/Rome
BEGIN:STANDARD
DTSTART:20251026T020000
TZOFFSETFROM:+0200
TZOFFSETTO:+0100
TZNAME:CET
END:STANDARD
END:VTIMEZONE
END:VCALENDAR